BEGIN:VCALENDAR
VERSION:2.0
PRODID:-//Burgschützen Kallmünz 1861 e.V. - ECPv6.15.20//NONSGML v1.0//EN
CALSCALE:GREGORIAN
METHOD:PUBLISH
X-WR-CALNAME:Burgschützen Kallmünz 1861 e.V.
X-ORIGINAL-URL:https://burgschuetzen-kallmuenz.com
X-WR-CALDESC:Veranstaltungen für Burgschützen Kallmünz 1861 e.V.
REFRESH-INTERVAL;VALUE=DURATION:PT1H
X-Robots-Tag:noindex
X-PUBLISHED-TTL:PT1H
BEGIN:VTIMEZONE
TZID:UTC
BEGIN:STANDARD
TZOFFSETFROM:+0000
TZOFFSETTO:+0000
TZNAME:UTC
DTSTART:20240101T000000
END:STANDARD
END:VTIMEZONE
BEGIN:VEVENT
DTSTART;TZID=UTC:20250810T150000
DTEND;TZID=UTC:20250810T153000
DTSTAMP:20260419T231621
CREATED:20250526T122150Z
LAST-MODIFIED:20250526T123039Z
UID:3452-1754838000-1754839800@burgschuetzen-kallmuenz.com
SUMMARY:32. Bayerisches Böllerschützentreffen 2025 - Eslarn
DESCRIPTION:Einladung 32. Bayerisches Böllerschützentreffen 2025 \nServus Böllerschützinnen und Böllerschützen. \nanlässlich des 25. Heimatfest 2025 der Marktgemeinde Eslarn mit dem Motto „Feiern aus Tradition möchten wir Sie zum abschließenden Höhepunkt unseres Festes zum 32. Bayerischen Böllerschützentreffen am Sonntag den 10.08.2025 recht herzlich einladen. Das Böllerschützentreffen wird in Eslarn am Festgelände des Atzmannsees stattfinden. Der Schussplatz befindet sich in unmittelbarer Nähe. \nVorläufig geplanter Ablauf: \n\n08:30 Uhr: Zeltgottesdienst mit Böllerpfarrer Alfred Binder anschließend Frühschoppen mit Hubert Aiwanger und den „Schlossbergern“ aus Eslarn\nVon 09:30 Uhr bis 12:00 Uhr Anmeldung der eintreffenden Böllergruppen mit Zugzuweisung\nVon 11:00 Uhr bis 13:00 Uhr Mittagessen\nUm 12:30 Uhr Kommandantenbesprechung / Sicherheitsunterweisung\nUm 13:00 Uhr Aufstellung zum Abmarsch Böllerschützenzug\nUm 14:00 Uhr Platzschießen mit 5 Schuss\, anschließender Rückmarsch zum Festzelt und Festzeltbetrieb mit den „Schlossbergern aus Eslarn“\nIm Anschluss Festausklang mit Abschlussfeuerwerk des Heimatfests 2025.\n\n[…] \nFeiern Sie gerne mit uns das Bayerische Böllerbrauchtum gemäß unserem Motto „Feiern aus Tradition“. \nHinweis: Nach dem Sprengstoffgesetz darf nur namentlich vorbestelltes Pulver an berechtigte abgegeben werden. Bitte vorbestellen unter www.fellnerfeuerwerk.de/boellerschuetzen/ \nVielen Dank. \nMit freundlichen Schützengruß\nDaniel Biermeier; 1. Schützenmeister\nChristoph Bauer; 1. Böllermeister \n  \nFotos: Andreas Haberl
URL:https://burgschuetzen-kallmuenz.com/event/32-bayerisches-boellerschuetzentreffen-2025/
CATEGORIES:Böllerschützen,Böllertreffen
ATTACH;FMTTYPE=image/jpeg:https://burgschuetzen-kallmuenz.com/wp-content/uploads/2025/05/IMG-20250504-WA0038.jpg
END:VEVENT
BEGIN:VEVENT
DTSTART;TZID=UTC:20250831T100000
DTEND;TZID=UTC:20250831T180000
DTSTAMP:20260419T231621
CREATED:20250524T120739Z
LAST-MODIFIED:20250524T120822Z
UID:3433-1756634400-1756663200@burgschuetzen-kallmuenz.com
SUMMARY:VM Bogen- und Blasrohrschiessen mit Grillfeier
DESCRIPTION:Die Burgschützen Kallmünz laden auch in diesem Jahr wieder zum Sommerfest und zur Grillfeier ein. Ein Highlight sind die Vereinsmeisterschaften im Bogenschiessen und im Blasrohrschiessen. Das Fest findet statt am Sonntag\, den 31. August 2025 ab 10:00 Uhr im Schützenheim\, An der Tegelgrube 2\, 93183 Kallmünz. \nWir freuen uns auf Dich! \nGerne könnt ihr die Trainingsmöglichkeiten an unseren Schissabenden nutzen: Trainingszeiten. \n 
URL:https://burgschuetzen-kallmuenz.com/event/vm-bogen-und-blasrohrschiessen-mit-grillfeier/
LOCATION:Burgschützen Kallmünz e.V. 1861\, An der Tegelgrube 2\, Kallmünz\, 93183
CATEGORIES:Burgschützen,Feiern und Feste und Jubiläum,Vereinsmeisterschaft
ATTACH;FMTTYPE=image/jpeg:https://burgschuetzen-kallmuenz.com/wp-content/uploads/2024/09/Bogen-Alois-scaled-e1731943271472.jpg
ORGANIZER;CN="Burgsch%C3%BCtzen Kallm%C3%BCnz 1861 e.V.":MAILTO:mail(äd)burgschuetzen-kallmuenz.com
END:VEVENT
END:VCALENDAR