BEGIN:VCALENDAR
VERSION:2.0
PRODID:-//Burgschützen Kallmünz 1861 e.V. - ECPv6.15.20//NONSGML v1.0//EN
CALSCALE:GREGORIAN
METHOD:PUBLISH
X-ORIGINAL-URL:https://burgschuetzen-kallmuenz.com
X-WR-CALDESC:Veranstaltungen für Burgschützen Kallmünz 1861 e.V.
REFRESH-INTERVAL;VALUE=DURATION:PT1H
X-Robots-Tag:noindex
X-PUBLISHED-TTL:PT1H
BEGIN:VTIMEZONE
TZID:UTC
BEGIN:STANDARD
TZOFFSETFROM:+0000
TZOFFSETTO:+0000
TZNAME:UTC
DTSTART:20240101T000000
END:STANDARD
END:VTIMEZONE
BEGIN:VEVENT
DTSTART;VALUE=DATE:20250706
DTEND;VALUE=DATE:20250707
DTSTAMP:20260420T004827
CREATED:20250524T114417Z
LAST-MODIFIED:20250524T114447Z
UID:3423-1751760000-1751846399@burgschuetzen-kallmuenz.com
SUMMARY:150 Jahre FFW Rohrbach Kallmünz
DESCRIPTION:Teilnahme am Fest 150 Jahre FFW Rohrbach Kallmünz- Gründungsfest\nAufstellen zum Festzug am Sonntag\, dem 06.07.2025 um 13:30 Uhr; Treffen ab 13:00 Uhr
URL:https://burgschuetzen-kallmuenz.com/event/150-jahre-ffw-rohrbach-kallmuenz/
CATEGORIES:Feiern und Feste und Jubiläum
ATTACH;FMTTYPE=image/jpeg:https://burgschuetzen-kallmuenz.com/wp-content/uploads/2024/06/IMG-20240616-WA0006.jpg
END:VEVENT
BEGIN:VEVENT
DTSTART;VALUE=DATE:20250712
DTEND;VALUE=DATE:20250713
DTSTAMP:20260420T004827
CREATED:20250524T115504Z
LAST-MODIFIED:20250524T115527Z
UID:3427-1752278400-1752364799@burgschuetzen-kallmuenz.com
SUMMARY:60 Jahre Silberdistel Pottenstetten
DESCRIPTION:60 Jahre Plattl Leonberg\n\n  \nAus der MZ am 29.12.2024: \nDrei Jubiläen: Plattl Leonberg\, Silberdistel Pottenstetten und Schwarzer Berg Rappenbügl feiern 2025\nFolgende Schützen-Jubiläumsfeste stehen fest: Am 28. und 29. Juni 175 Jahre Plattl Leonberg\, am 12. Juli 60 Jahre Silberdistel Pottenstetten und am 26. und 27. Juli Schwarzer Berg Rappenbügl 60+1 Jahre. Der Schützengau feiert im Jahre 2026 sein 75-jähriges Bestehen. Dieses Fest soll mit einem Preisschießen und einem Festzug gebührend gefeiert werden und ist noch im Detail zu planen.
URL:https://burgschuetzen-kallmuenz.com/event/60-jahre-silberdistel-pottenstetten/
CATEGORIES:Feiern und Feste und Jubiläum
END:VEVENT
BEGIN:VEVENT
DTSTART;TZID=UTC:20250718T180000
DTEND;TZID=UTC:20250718T200000
DTSTAMP:20260420T004827
CREATED:20250715T123608Z
LAST-MODIFIED:20250715T123608Z
UID:3590-1752861600-1752868800@burgschuetzen-kallmuenz.com
SUMMARY:Preisverleihung Ältestenschießen
DESCRIPTION:Am Freitag\, dem 18.07.2025 findet ab 18:00 Uhr im Schützenheim Waldeslust Roding die Preisverleihung zum Ältestenschießen statt.
URL:https://burgschuetzen-kallmuenz.com/event/preisverleihung-aeltestenschiessen/
CATEGORIES:Veranstaltungen
ATTACH;FMTTYPE=image/jpeg:https://burgschuetzen-kallmuenz.com/wp-content/uploads/2024/09/20240928_Karin-Wagner-Pokal_Gau-Bul_Steger_Kohler_Huettner_Schuerck-beim-Einschiessen-e1754293831631.jpg
END:VEVENT
BEGIN:VEVENT
DTSTART;TZID=UTC:20250720T150000
DTEND;TZID=UTC:20250720T153000
DTSTAMP:20260420T004827
CREATED:20250526T121025Z
LAST-MODIFIED:20250526T122220Z
UID:3446-1753023600-1753025400@burgschuetzen-kallmuenz.com
SUMMARY:Oberpfälzer Böllerschützen Treffen
DESCRIPTION:Einladung zum Oberpfälzer Böllerschützentreffen am Sonntag\, 20.07.2025 \nSehr geehrte Damen und Herren\,\nder Verein der Trenckfestspiele Waldmünchen e.V. und die Stadt Waldmünchen feiern\nzusammen 75. Jahre Trenckfestspiele und Heimatfest. Zu diesem Anlass ist es uns eine Ehre\,\nSie am Sonntag\, 20. Juli 2025 zum Oberpfälzer Böllerschützentreffen einzuladen.\nWir bitten Sie um Rückmeldung mit dem beiliegenden Anmeldeformular bis 15. April 2025.\nDie angemeldeten Böllergruppen erhalten Ende Juni dazu Post\, mit den detaillierten Unterlagen\nzum Böllerschützentreffen.\nWir freuen uns auf Ihre Anmeldung und heißen Sie mit Ihren\nWaldmünchen herzlich willkommen.\nMit freundlichen Grüßen \nTrenckfestspiele e.V.; Erster Vorsitzender;  Martin Frank\nStadt Waldmünchen; Erster Bürgermeister; Markus Ackermann \n  \nFotos: Andreas Haberl
URL:https://burgschuetzen-kallmuenz.com/event/oberpfaelzer-boellerschuetzen-treffen/
CATEGORIES:Böllerschützen,Böllertreffen
ATTACH;FMTTYPE=image/jpeg:https://burgschuetzen-kallmuenz.com/wp-content/uploads/2025/05/20250505-Boellerschuetzen-Kallmuenz-am-Buechlberg.jpg
END:VEVENT
BEGIN:VEVENT
DTSTART;VALUE=DATE:20250727
DTEND;VALUE=DATE:20250728
DTSTAMP:20260420T004827
CREATED:20250524T120313Z
LAST-MODIFIED:20250524T120313Z
UID:3430-1753574400-1753660799@burgschuetzen-kallmuenz.com
SUMMARY:60+1 Jahre Schwarzer Berg Rappenbügl
DESCRIPTION:60+1 Jahre Schwarzer Berg Rappenbügl\nAufstellung zum Festzug um 13:30 Uhr; Treffen ab 13:00 Uhr\n\n  \nAus der MZ am 29.12.2024: \nDrei Jubiläen: Plattl Leonberg\, Silberdistel Pottenstetten und Schwarzer Berg Rappenbügl feiern 2025\nFolgende Schützen-Jubiläumsfeste stehen fest: Am 28. und 29. Juni 175 Jahre Plattl Leonberg\, am 12. Juli 60 Jahre Silberdistel Pottenstetten und am 26. und 27. Juli Schwarzer Berg Rappenbügl 60+1 Jahre. Der Schützengau feiert im Jahre 2026 sein 75-jähriges Bestehen. Dieses Fest soll mit einem Preisschießen und einem Festzug gebührend gefeiert werden und ist noch im Detail zu planen.
URL:https://burgschuetzen-kallmuenz.com/event/601-jahre-schwarzer-berg-rappenbuegl/
CATEGORIES:Feiern und Feste und Jubiläum
ATTACH;FMTTYPE=image/png:https://burgschuetzen-kallmuenz.com/wp-content/uploads/2024/09/Logo-Rappenbuegel-2.png
END:VEVENT
END:VCALENDAR