BEGIN:VCALENDAR
VERSION:2.0
PRODID:-//Burgschützen Kallmünz 1861 e.V. - ECPv6.15.20//NONSGML v1.0//EN
CALSCALE:GREGORIAN
METHOD:PUBLISH
X-ORIGINAL-URL:https://burgschuetzen-kallmuenz.com
X-WR-CALDESC:Veranstaltungen für Burgschützen Kallmünz 1861 e.V.
REFRESH-INTERVAL;VALUE=DURATION:PT1H
X-Robots-Tag:noindex
X-PUBLISHED-TTL:PT1H
BEGIN:VTIMEZONE
TZID:UTC
BEGIN:STANDARD
TZOFFSETFROM:+0000
TZOFFSETTO:+0000
TZNAME:UTC
DTSTART:20240101T000000
END:STANDARD
END:VTIMEZONE
BEGIN:VEVENT
DTSTART;TZID=UTC:20250417T190000
DTEND;TZID=UTC:20250417T210000
DTSTAMP:20260420T051823
CREATED:20250414T070123Z
LAST-MODIFIED:20250414T072434Z
UID:3302-1744916400-1744923600@burgschuetzen-kallmuenz.com
SUMMARY:Osterschießen: Gemeinschaft und Hoffnung im Zeichen des Osterfestes
DESCRIPTION:Am 17. April findet im Schützenheim ab 19:00 Uhr das jährliche Osterschießen statt. Alle Vereinsmitglieder sind herzlich eingeladen\, an diesem besonderen Ereignis teilzunehmen.\nDas Osterschießen bietet allen Teilnehmern\, unabhängig von ihrer Konfession\, die Möglichkeit\, die Osterzeit auf besondere Weise zu erleben. Für gläubige Teilnehmer kann das Event eine Gelegenheit sein\, die österliche Botschaft von Hoffnung\, Neubeginn und Auferstehung zu reflektieren. Die speziell für das Osterschießen vorbereiteten Scheiben können als Symbol für die Vielfalt und Schönheit des Lebens gesehen werden.\nFür alle anderen steht das gemeinsame Erleben und die Freude an der Gemeinschaft im Vordergrund. Das Osterschießen ist eine Gelegenheit\, sich in entspannter Atmosphäre zu begegnen und die Osterzeit als Zeit des Miteinanders zu genießen.\nUnabhängig vom persönlichen Hintergrund steht bei diesem Event nicht der sportliche Wettkampf im Vordergrund\, sondern das Zusammenkommen und das gemeinsame Erleben. Für das leibliche Wohl ist mit Getränken gesorgt.
URL:https://burgschuetzen-kallmuenz.com/event/osterschiessen-gemeinschaft-und-hoffnung-im-zeichen-des-osterfestes/
LOCATION:Schützenverein Waldestlust Roding e.V.\, Raffastraße 50\, Maxhütte-Haidhof\,\, Deutschland\, 93142
CATEGORIES:Burgschützen,Veranstaltungen
ATTACH;FMTTYPE=image/jpeg:https://burgschuetzen-kallmuenz.com/wp-content/uploads/2025/04/IMG_20240415_194929.jpg
ORGANIZER;CN="Burgsch%C3%BCtzen Kallm%C3%BCnz 1861 e.V.":MAILTO:mail(äd)burgschuetzen-kallmuenz.com
END:VEVENT
END:VCALENDAR