BEGIN:VCALENDAR
VERSION:2.0
PRODID:-//Burgschützen Kallmünz 1861 e.V. - ECPv6.15.20//NONSGML v1.0//EN
CALSCALE:GREGORIAN
METHOD:PUBLISH
X-WR-CALNAME:Burgschützen Kallmünz 1861 e.V.
X-ORIGINAL-URL:https://burgschuetzen-kallmuenz.com
X-WR-CALDESC:Veranstaltungen für Burgschützen Kallmünz 1861 e.V.
REFRESH-INTERVAL;VALUE=DURATION:PT1H
X-Robots-Tag:noindex
X-PUBLISHED-TTL:PT1H
BEGIN:VTIMEZONE
TZID:America/Los_Angeles
BEGIN:DAYLIGHT
TZOFFSETFROM:-0800
TZOFFSETTO:-0700
TZNAME:PDT
DTSTART:20240310T100000
END:DAYLIGHT
BEGIN:STANDARD
TZOFFSETFROM:-0700
TZOFFSETTO:-0800
TZNAME:PST
DTSTART:20241103T090000
END:STANDARD
BEGIN:DAYLIGHT
TZOFFSETFROM:-0800
TZOFFSETTO:-0700
TZNAME:PDT
DTSTART:20250309T100000
END:DAYLIGHT
BEGIN:STANDARD
TZOFFSETFROM:-0700
TZOFFSETTO:-0800
TZNAME:PST
DTSTART:20251102T090000
END:STANDARD
BEGIN:DAYLIGHT
TZOFFSETFROM:-0800
TZOFFSETTO:-0700
TZNAME:PDT
DTSTART:20260308T100000
END:DAYLIGHT
BEGIN:STANDARD
TZOFFSETFROM:-0700
TZOFFSETTO:-0800
TZNAME:PST
DTSTART:20261101T090000
END:STANDARD
END:VTIMEZONE
BEGIN:VEVENT
DTSTART;VALUE=DATE:20250308
DTEND;VALUE=DATE:20250309
DTSTAMP:20260420T063451
CREATED:20250108T110108Z
LAST-MODIFIED:20250108T111215Z
UID:2981-1741392000-1741478399@burgschuetzen-kallmuenz.com
SUMMARY:Gaumeisterschaft - LP / LP Auflage
DESCRIPTION:Klassen: Herren/Damen 1-5 und Senioren 1-6 \nVeranstaltungsort: Jägerblut Rappenbügel\n \n 
URL:https://burgschuetzen-kallmuenz.com/event/gaumeisterschaft-lp-lp-auflage/
LOCATION:Jägerblut Rappenbügel 1964\, Teublitzerstr. 34\, Maxhütte-Haidhof\, 93142
CATEGORIES:Gaumeisterschaften,Schützengau Burglengenfeld
ATTACH;FMTTYPE=image/jpeg:https://burgschuetzen-kallmuenz.com/wp-content/uploads/2024/09/Logo-Schuetzengau-BUL-e1726906821567.jpg
END:VEVENT
BEGIN:VEVENT
DTSTART;VALUE=DATE:20250330
DTEND;VALUE=DATE:20250331
DTSTAMP:20260420T063451
CREATED:20250316T121302Z
LAST-MODIFIED:20250316T121420Z
UID:3224-1743292800-1743379199@burgschuetzen-kallmuenz.com
SUMMARY:Schützenmeistertagung 2025
DESCRIPTION:Die 1. Schützenmeistertagung 2025 findet statt am \n30. März 2025\, Beginn: 16.00 Uhr \nGaststätte Schützenhaus\, Dr. Kurt-Schumacher-Straße 8\, MH \nEs findet eine kurze Unterredung zum Treffen der Damenleiterinnen/Themen statt. Dazu sind alle Damenleiterinnen recht herzlich eingeladen. \nEinladung des Gaus gibt es HIER. \n  \n16.03.2025 – webmaster gs
URL:https://burgschuetzen-kallmuenz.com/event/schuetzenmeistertagung-2025/
CATEGORIES:Schützengau Burglengenfeld,Schützenmeistertagung
ATTACH;FMTTYPE=image/jpeg:https://burgschuetzen-kallmuenz.com/wp-content/uploads/2024/09/Logo-Schuetzengau-BUL-e1726906821567.jpg
END:VEVENT
END:VCALENDAR