BEGIN:VCALENDAR
VERSION:2.0
PRODID:-//Burgschützen Kallmünz 1861 e.V. - ECPv6.15.20//NONSGML v1.0//EN
CALSCALE:GREGORIAN
METHOD:PUBLISH
X-WR-CALNAME:Burgschützen Kallmünz 1861 e.V.
X-ORIGINAL-URL:https://burgschuetzen-kallmuenz.com
X-WR-CALDESC:Veranstaltungen für Burgschützen Kallmünz 1861 e.V.
REFRESH-INTERVAL;VALUE=DURATION:PT1H
X-Robots-Tag:noindex
X-PUBLISHED-TTL:PT1H
BEGIN:VTIMEZONE
TZID:UTC
BEGIN:STANDARD
TZOFFSETFROM:+0000
TZOFFSETTO:+0000
TZNAME:UTC
DTSTART:20240101T000000
END:STANDARD
END:VTIMEZONE
BEGIN:VEVENT
DTSTART;VALUE=DATE:20250712
DTEND;VALUE=DATE:20250713
DTSTAMP:20260420T021416
CREATED:20250524T115504Z
LAST-MODIFIED:20250524T115527Z
UID:3427-1752278400-1752364799@burgschuetzen-kallmuenz.com
SUMMARY:60 Jahre Silberdistel Pottenstetten
DESCRIPTION:60 Jahre Plattl Leonberg\n\n  \nAus der MZ am 29.12.2024: \nDrei Jubiläen: Plattl Leonberg\, Silberdistel Pottenstetten und Schwarzer Berg Rappenbügl feiern 2025\nFolgende Schützen-Jubiläumsfeste stehen fest: Am 28. und 29. Juni 175 Jahre Plattl Leonberg\, am 12. Juli 60 Jahre Silberdistel Pottenstetten und am 26. und 27. Juli Schwarzer Berg Rappenbügl 60+1 Jahre. Der Schützengau feiert im Jahre 2026 sein 75-jähriges Bestehen. Dieses Fest soll mit einem Preisschießen und einem Festzug gebührend gefeiert werden und ist noch im Detail zu planen.
URL:https://burgschuetzen-kallmuenz.com/event/60-jahre-silberdistel-pottenstetten/
CATEGORIES:Feiern und Feste und Jubiläum
END:VEVENT
END:VCALENDAR