BEGIN:VCALENDAR
VERSION:2.0
PRODID:-//Burgschützen Kallmünz 1861 e.V. - ECPv6.15.20//NONSGML v1.0//EN
CALSCALE:GREGORIAN
METHOD:PUBLISH
X-WR-CALNAME:Burgschützen Kallmünz 1861 e.V.
X-ORIGINAL-URL:https://burgschuetzen-kallmuenz.com
X-WR-CALDESC:Veranstaltungen für Burgschützen Kallmünz 1861 e.V.
REFRESH-INTERVAL;VALUE=DURATION:PT1H
X-Robots-Tag:noindex
X-PUBLISHED-TTL:PT1H
BEGIN:VTIMEZONE
TZID:UTC
BEGIN:STANDARD
TZOFFSETFROM:+0000
TZOFFSETTO:+0000
TZNAME:UTC
DTSTART:20240101T000000
END:STANDARD
END:VTIMEZONE
BEGIN:VEVENT
DTSTART;TZID=UTC:20250620T090000
DTEND;TZID=UTC:20250629T173000
DTSTAMP:20260420T034017
CREATED:20250524T123453Z
LAST-MODIFIED:20250524T123722Z
UID:3442-1750410000-1751218200@burgschuetzen-kallmuenz.com
SUMMARY:Bay. Landesmeisterschaften
DESCRIPTION:Einige unserer Schützen und Schützinnen haben sich für die Teilnahme bei den bayerischen Landesmeisterschaften qualifiziert. \nDiese finden im Leistungszentrum Pfreimd im Juni 2025 statt. (20.06.-22.06. + 27.06.-29.06.) \n  \n 
URL:https://burgschuetzen-kallmuenz.com/event/2025-06-20-2025-06-29-bay-landesmeisterschaften/
LOCATION:Oberpfälzer Schützenbund e.V.\, Schützenstraße 99\, Pfreimd\, Bayern\, 92536\, Deutschland
CATEGORIES:Bay. Landesmeisterschaften
ATTACH;FMTTYPE=image/jpeg:https://burgschuetzen-kallmuenz.com/wp-content/uploads/2024/09/20240928_Karin-Wagner-Pokal_Gau-Bul_Huettner_Schuerck.jpg
ORGANIZER;CN="Oberpf%C3%A4lzer Sch%C3%BCtzenbund e.V.":MAILTO:info@osb-ev.de
END:VEVENT
END:VCALENDAR