BEGIN:VCALENDAR
VERSION:2.0
PRODID:-//Burgschützen Kallmünz 1861 e.V. - ECPv6.15.20//NONSGML v1.0//EN
CALSCALE:GREGORIAN
METHOD:PUBLISH
X-WR-CALNAME:Burgschützen Kallmünz 1861 e.V.
X-ORIGINAL-URL:https://burgschuetzen-kallmuenz.com
X-WR-CALDESC:Veranstaltungen für Burgschützen Kallmünz 1861 e.V.
REFRESH-INTERVAL;VALUE=DURATION:PT1H
X-Robots-Tag:noindex
X-PUBLISHED-TTL:PT1H
BEGIN:VTIMEZONE
TZID:UTC
BEGIN:STANDARD
TZOFFSETFROM:+0000
TZOFFSETTO:+0000
TZNAME:UTC
DTSTART:20240101T000000
END:STANDARD
END:VTIMEZONE
BEGIN:VEVENT
DTSTART;VALUE=DATE:20250608
DTEND;VALUE=DATE:20250609
DTSTAMP:20260420T034003
CREATED:20250524T111010Z
LAST-MODIFIED:20250524T113910Z
UID:3414-1749340800-1749427199@burgschuetzen-kallmuenz.com
SUMMARY:150 Jahre FFW Hochdorf
DESCRIPTION:Teilnahme am Fest 150 Jahre FFW Hochdorf – Gründungsfest\nAufstelle zum Festzug am Sonntag\, dem 08.06.2025 um 13:30 Uhr; Treffen ab 13:00 Uhr
URL:https://burgschuetzen-kallmuenz.com/event/150-jahre-ffw-hochdorf/
CATEGORIES:Feiern und Feste und Jubiläum
ATTACH;FMTTYPE=image/jpeg:https://burgschuetzen-kallmuenz.com/wp-content/uploads/2024/06/IMG-20240616-WA0006.jpg
END:VEVENT
END:VCALENDAR