BEGIN:VCALENDAR
VERSION:2.0
PRODID:-//Burgschützen Kallmünz 1861 e.V. - ECPv6.15.20//NONSGML v1.0//EN
CALSCALE:GREGORIAN
METHOD:PUBLISH
X-WR-CALNAME:Burgschützen Kallmünz 1861 e.V.
X-ORIGINAL-URL:https://burgschuetzen-kallmuenz.com
X-WR-CALDESC:Veranstaltungen für Burgschützen Kallmünz 1861 e.V.
REFRESH-INTERVAL;VALUE=DURATION:PT1H
X-Robots-Tag:noindex
X-PUBLISHED-TTL:PT1H
BEGIN:VTIMEZONE
TZID:UTC
BEGIN:STANDARD
TZOFFSETFROM:+0000
TZOFFSETTO:+0000
TZNAME:UTC
DTSTART:20240101T000000
END:STANDARD
END:VTIMEZONE
BEGIN:VEVENT
DTSTART;TZID=UTC:20250509T190000
DTEND;TZID=UTC:20250509T220000
DTSTAMP:20260420T051434
CREATED:20250414T072123Z
LAST-MODIFIED:20250505T090723Z
UID:3306-1746817200-1746828000@burgschuetzen-kallmuenz.com
SUMMARY:Einladung zur Königsproklamation und Vereinsmeisterehrung
DESCRIPTION:Am 09. Mai 2025 um 19:00 Uhr findet die Königsproklamation mit der Ehrung der Vereinsmeister im Schützenheim statt.\nDie Königsschüsse wurden zwischen dem 01. Januar und dem 30. April 2025 geschossen. Auch die Vereinsmeisterschaften wurden in diesem Zeitraum ausgetragen. Die Vereinsmeister werden ebenfalls an diesem Abend geehrt\, sowie die Gewinner in den Gaumeisterschaften.\n\nAlle sind herzlich eingeladen\, dabei zu sein und gemeinsam die Erfolge zu feiern!\n\nTagesordnung (aufgestellt: Robert Faltermeier\, 1. Schützenmeister)\n1. Begrüßung\n2. Siegerehrung zu den Vereinsmeisterschaften\n3. Siegerehrung zu den Gaumeisterschaften\n4. Verleihung der Schützenschnüre\n5. Grußworte\n6. Bekanntgaben / Sonstiges\n7. Königsproklamation\n8. Foto-Shooting
URL:https://burgschuetzen-kallmuenz.com/event/einladung-zur-koenigsproklamation-und-vereinsmeisterehrung/
LOCATION:Burgschützen Kallmünz e.V. 1861\, An der Tegelgrube 2\, Kallmünz\, 93183
CATEGORIES:Burgschützen,Königsproklamation
ATTACH;FMTTYPE=image/jpeg:https://burgschuetzen-kallmuenz.com/wp-content/uploads/2025/04/20240921-Gau-Koenig-Burgschuetzen-Foto-Petra-Faltermeier_bearb.jpg
ORGANIZER;CN="Burgsch%C3%BCtzen Kallm%C3%BCnz 1861 e.V.":MAILTO:mail(äd)burgschuetzen-kallmuenz.com
END:VEVENT
END:VCALENDAR