BEGIN:VCALENDAR
VERSION:2.0
PRODID:-//Burgschützen Kallmünz 1861 e.V. - ECPv6.15.20//NONSGML v1.0//EN
CALSCALE:GREGORIAN
METHOD:PUBLISH
X-ORIGINAL-URL:https://burgschuetzen-kallmuenz.com
X-WR-CALDESC:Veranstaltungen für Burgschützen Kallmünz 1861 e.V.
REFRESH-INTERVAL;VALUE=DURATION:PT1H
X-Robots-Tag:noindex
X-PUBLISHED-TTL:PT1H
BEGIN:VTIMEZONE
TZID:UTC
BEGIN:STANDARD
TZOFFSETFROM:+0000
TZOFFSETTO:+0000
TZNAME:UTC
DTSTART:20240101T000000
END:STANDARD
END:VTIMEZONE
BEGIN:VEVENT
DTSTART;VALUE=DATE:20250228
DTEND;VALUE=DATE:20250301
DTSTAMP:20260420T075700
CREATED:20241118T150613Z
LAST-MODIFIED:20241118T150613Z
UID:2825-1740700800-1740787199@burgschuetzen-kallmuenz.com
SUMMARY:[2025.02.28] - Gaudi-Schießen
DESCRIPTION:Gaudi-Schießen im Schützenheim\nUhrzeit: Wahrscheinlich 19:00 Uhr
URL:https://burgschuetzen-kallmuenz.com/event/2025-02-28-gaudi-schiessen/
LOCATION:Schützenverein Waldestlust Roding e.V.\, Raffastraße 50\, Maxhütte-Haidhof\,\, Deutschland\, 93142
CATEGORIES:Burgschützen
ATTACH;FMTTYPE=image/jpeg:https://burgschuetzen-kallmuenz.com/wp-content/uploads/2024/03/20240329_gs_09-scaled-e1718346802533.jpg
ORGANIZER;CN="Burgsch%C3%BCtzen Kallm%C3%BCnz 1861 e.V.":MAILTO:mail(äd)burgschuetzen-kallmuenz.com
END:VEVENT
END:VCALENDAR