BEGIN:VCALENDAR
VERSION:2.0
PRODID:-//Burgschützen Kallmünz 1861 e.V. - ECPv6.15.20//NONSGML v1.0//EN
CALSCALE:GREGORIAN
METHOD:PUBLISH
X-WR-CALNAME:Burgschützen Kallmünz 1861 e.V.
X-ORIGINAL-URL:https://burgschuetzen-kallmuenz.com
X-WR-CALDESC:Veranstaltungen für Burgschützen Kallmünz 1861 e.V.
REFRESH-INTERVAL;VALUE=DURATION:PT1H
X-Robots-Tag:noindex
X-PUBLISHED-TTL:PT1H
BEGIN:VTIMEZONE
TZID:America/Los_Angeles
BEGIN:DAYLIGHT
TZOFFSETFROM:-0800
TZOFFSETTO:-0700
TZNAME:PDT
DTSTART:20240310T100000
END:DAYLIGHT
BEGIN:STANDARD
TZOFFSETFROM:-0700
TZOFFSETTO:-0800
TZNAME:PST
DTSTART:20241103T090000
END:STANDARD
BEGIN:DAYLIGHT
TZOFFSETFROM:-0800
TZOFFSETTO:-0700
TZNAME:PDT
DTSTART:20250309T100000
END:DAYLIGHT
BEGIN:STANDARD
TZOFFSETFROM:-0700
TZOFFSETTO:-0800
TZNAME:PST
DTSTART:20251102T090000
END:STANDARD
BEGIN:DAYLIGHT
TZOFFSETFROM:-0800
TZOFFSETTO:-0700
TZNAME:PDT
DTSTART:20260308T100000
END:DAYLIGHT
BEGIN:STANDARD
TZOFFSETFROM:-0700
TZOFFSETTO:-0800
TZNAME:PST
DTSTART:20261101T090000
END:STANDARD
END:VTIMEZONE
BEGIN:VEVENT
DTSTART;VALUE=DATE:20250223
DTEND;VALUE=DATE:20250224
DTSTAMP:20260420T093911
CREATED:20250108T111414Z
LAST-MODIFIED:20250108T111702Z
UID:2989-1740268800-1740355199@burgschuetzen-kallmuenz.com
SUMMARY:Gaumeisterschaft - Zimmerstutzen inkl. Auflage
DESCRIPTION:Klassen: alle Klassen\n \nVeranstaltungsort: Burgschützen Kallmünz\n \n 
URL:https://burgschuetzen-kallmuenz.com/event/gaumeisterschaft-zimmerstutzen-inkl-auflage/
LOCATION:Schützenverein Waldestlust Roding e.V.\, Raffastraße 50\, Maxhütte-Haidhof\,\, Deutschland\, 93142
CATEGORIES:Gaumeisterschaften,Schützengau Burglengenfeld
ATTACH;FMTTYPE=image/jpeg:https://burgschuetzen-kallmuenz.com/wp-content/uploads/2024/09/Logo-Schuetzengau-BUL-e1726906821567.jpg
ORGANIZER;CN="Burgsch%C3%BCtzen Kallm%C3%BCnz 1861 e.V.":MAILTO:mail(äd)burgschuetzen-kallmuenz.com
END:VEVENT
END:VCALENDAR