BEGIN:VCALENDAR
VERSION:2.0
PRODID:-//Burgschützen Kallmünz 1861 e.V. - ECPv6.15.20//NONSGML v1.0//EN
CALSCALE:GREGORIAN
METHOD:PUBLISH
X-WR-CALNAME:Burgschützen Kallmünz 1861 e.V.
X-ORIGINAL-URL:https://burgschuetzen-kallmuenz.com
X-WR-CALDESC:Veranstaltungen für Burgschützen Kallmünz 1861 e.V.
REFRESH-INTERVAL;VALUE=DURATION:PT1H
X-Robots-Tag:noindex
X-PUBLISHED-TTL:PT1H
BEGIN:VTIMEZONE
TZID:Atlantic/Azores
BEGIN:DAYLIGHT
TZOFFSETFROM:-0100
TZOFFSETTO:+0000
TZNAME:+00
DTSTART:20240331T010000
END:DAYLIGHT
BEGIN:STANDARD
TZOFFSETFROM:+0000
TZOFFSETTO:-0100
TZNAME:-01
DTSTART:20241027T010000
END:STANDARD
BEGIN:DAYLIGHT
TZOFFSETFROM:-0100
TZOFFSETTO:+0000
TZNAME:+00
DTSTART:20250330T010000
END:DAYLIGHT
BEGIN:STANDARD
TZOFFSETFROM:+0000
TZOFFSETTO:-0100
TZNAME:-01
DTSTART:20251026T010000
END:STANDARD
BEGIN:DAYLIGHT
TZOFFSETFROM:-0100
TZOFFSETTO:+0000
TZNAME:+00
DTSTART:20260329T010000
END:DAYLIGHT
BEGIN:STANDARD
TZOFFSETFROM:+0000
TZOFFSETTO:-0100
TZNAME:-01
DTSTART:20261025T010000
END:STANDARD
END:VTIMEZONE
BEGIN:VEVENT
DTSTART;TZID=Atlantic/Azores:20250109T190000
DTEND;TZID=Atlantic/Azores:20250109T210000
DTSTAMP:20260420T110047
CREATED:20241217T093858Z
LAST-MODIFIED:20241217T093959Z
UID:2944-1736449200-1736456400@burgschuetzen-kallmuenz.com
SUMMARY:[2025.01.09] - 6. Tag Rundenwettkampf
DESCRIPTION:6. Tag Rundenwettkampf \nam 09.01.2025 ab 19:00 im Schützenheim  Burgschützen Kallmünz\nGegner ist Treff Burglengenfeld \nÜbersicht Rundenwettkampf 2024/2025 \nBisherige Ergbnisliste Gesamt HIER \n  \n17.12.2024 – webmaster gitta
URL:https://burgschuetzen-kallmuenz.com/event/2025-01-09-6-tag-rundenwettkampf/
LOCATION:Schützenverein Waldestlust Roding e.V.\, Raffastraße 50\, Maxhütte-Haidhof\,\, Deutschland\, 93142
CATEGORIES:Burgschützen,Rundenwettkampf,Wettkämpfe
ATTACH;FMTTYPE=image/jpeg:https://burgschuetzen-kallmuenz.com/download/1965/?tmstv=1776682847&v=1966
END:VEVENT
END:VCALENDAR