BEGIN:VCALENDAR
VERSION:2.0
PRODID:-//Burgschützen Kallmünz 1861 e.V. - ECPv6.15.20//NONSGML v1.0//EN
CALSCALE:GREGORIAN
METHOD:PUBLISH
X-WR-CALNAME:Burgschützen Kallmünz 1861 e.V.
X-ORIGINAL-URL:https://burgschuetzen-kallmuenz.com
X-WR-CALDESC:Veranstaltungen für Burgschützen Kallmünz 1861 e.V.
REFRESH-INTERVAL;VALUE=DURATION:PT1H
X-Robots-Tag:noindex
X-PUBLISHED-TTL:PT1H
BEGIN:VTIMEZONE
TZID:UTC
BEGIN:STANDARD
TZOFFSETFROM:+0000
TZOFFSETTO:+0000
TZNAME:UTC
DTSTART:20230101T000000
END:STANDARD
END:VTIMEZONE
BEGIN:VEVENT
DTSTART;TZID=UTC:20241215T091500
DTEND;TZID=UTC:20241215T170000
DTSTAMP:20260420T122409
CREATED:20241116T095638Z
LAST-MODIFIED:20241118T152124Z
UID:2805-1734254100-1734282000@burgschuetzen-kallmuenz.com
SUMMARY:Hallengaumeisterschaft Bogenschiessen
DESCRIPTION:Am 15.12.2024 findet die diesjährige Hallengaumeisterschaft (Qualifikation für die Landesmeisterschaft) bei den Bogenschützen Regental statt.\nOrt: Turnhalle Grundschule Steinsberg\, Pfalzgrafenstraße 4\nZeit: Je nach Teilnehmerzahl ab 09:15 Uhr. Bei stärkerer Teilnehmerzahl schießt die 2. Gruppe ab 14:00 Uhr.\nEndgültige Einteilung erfolgt durch Gerd Wiesneth (Schützengau Burglengenfeld) nach Meldeschluss.\nTeilnehmermeldung durch die jeweiligen Sportleiter bis zum 30.11.2024. Später eingehende Meldungen können nicht mehr berücksichtigt werden.\nBitte Teilnehmer melden mit: Name\, Vorname\, GebDatum\, Bogenart und Mitgliedsnummer.\nDie Meldung für die Burgschützen geht über Robert Faltermeier.
URL:https://burgschuetzen-kallmuenz.com/event/hallengaumeisterschaft-bogenschiessen/
LOCATION:Bogenschützen Regental e.V.\, Turnhalle Grundschule Steinsberg\, Pfalzgrafenstraße 4\, Regenstauf
CATEGORIES:Gaumeisterschaften,Wettkämpfe
ATTACH;FMTTYPE=image/jpeg:https://burgschuetzen-kallmuenz.com/wp-content/uploads/2024/09/Bogen-Alois-scaled-e1731943271472.jpg
END:VEVENT
END:VCALENDAR