BEGIN:VCALENDAR
VERSION:2.0
PRODID:-//Burgschützen Kallmünz 1861 e.V. - ECPv6.15.20//NONSGML v1.0//EN
CALSCALE:GREGORIAN
METHOD:PUBLISH
X-WR-CALNAME:Burgschützen Kallmünz 1861 e.V.
X-ORIGINAL-URL:https://burgschuetzen-kallmuenz.com
X-WR-CALDESC:Veranstaltungen für Burgschützen Kallmünz 1861 e.V.
REFRESH-INTERVAL;VALUE=DURATION:PT1H
X-Robots-Tag:noindex
X-PUBLISHED-TTL:PT1H
BEGIN:VTIMEZONE
TZID:UTC
BEGIN:STANDARD
TZOFFSETFROM:+0000
TZOFFSETTO:+0000
TZNAME:UTC
DTSTART:20230101T000000
END:STANDARD
END:VTIMEZONE
BEGIN:VEVENT
DTSTART;TZID=UTC:20241204T180000
DTEND;TZID=UTC:20241204T210000
DTSTAMP:20260420T122254
CREATED:20241203T151003Z
LAST-MODIFIED:20241203T151448Z
UID:2921-1733335200-1733346000@burgschuetzen-kallmuenz.com
SUMMARY:[2024.12.04] - 5. Tag Rundenwettkampf
DESCRIPTION:Gegner: SG 1859-Schwarzer Berg \nWo: Gasthaus Schützenhaus Maxhütte – Haidhof\nWann: 04.12.2024 ab 18:00 Uhr \nÜbersicht Wettkampfplan HIER \n  \n03.12.2024\nwebmaster
URL:https://burgschuetzen-kallmuenz.com/event/2024-12-04-5-tag-rundenwettkampf-2/
LOCATION:Schützenhaus Maxhütte – Haidhof\, Dr.-Kurt- Schumacherstr. 8 1/2\, Maxhütte - Haidhof\, 93142
END:VEVENT
END:VCALENDAR