BEGIN:VCALENDAR
VERSION:2.0
PRODID:-//Burgschützen Kallmünz 1861 e.V. - ECPv6.15.20//NONSGML v1.0//EN
CALSCALE:GREGORIAN
METHOD:PUBLISH
X-ORIGINAL-URL:https://burgschuetzen-kallmuenz.com
X-WR-CALDESC:Veranstaltungen für Burgschützen Kallmünz 1861 e.V.
REFRESH-INTERVAL;VALUE=DURATION:PT1H
X-Robots-Tag:noindex
X-PUBLISHED-TTL:PT1H
BEGIN:VTIMEZONE
TZID:UTC
BEGIN:STANDARD
TZOFFSETFROM:+0000
TZOFFSETTO:+0000
TZNAME:UTC
DTSTART:20230101T000000
END:STANDARD
END:VTIMEZONE
BEGIN:VEVENT
DTSTART;TZID=UTC:20241124T160000
DTEND;TZID=UTC:20241124T180000
DTSTAMP:20260420T134342
CREATED:20240907T062941Z
LAST-MODIFIED:20241118T145611Z
UID:2109-1732464000-1732471200@burgschuetzen-kallmuenz.com
SUMMARY:[2024.11.24] - Gau-Jahreshauptversammlung in Kallmünz
DESCRIPTION:Gau-Jahreshauptversammlung in Kallmünz
URL:https://burgschuetzen-kallmuenz.com/event/2024-11-24-gau-jahreshauptversammlung-in-kallmuenz/
LOCATION:Schützenverein Waldestlust Roding e.V.\, Raffastraße 50\, Maxhütte-Haidhof\,\, Deutschland\, 93142
CATEGORIES:Jahreshauptversammlung,Schützengau Burglengenfeld
ATTACH;FMTTYPE=image/jpeg:https://burgschuetzen-kallmuenz.com/wp-content/uploads/2024/09/Logo-Schuetzengau-BUL-e1726906821567.jpg
END:VEVENT
END:VCALENDAR