BEGIN:VCALENDAR
VERSION:2.0
PRODID:-//Burgschützen Kallmünz 1861 e.V. - ECPv6.15.20//NONSGML v1.0//EN
CALSCALE:GREGORIAN
METHOD:PUBLISH
X-WR-CALNAME:Burgschützen Kallmünz 1861 e.V.
X-ORIGINAL-URL:https://burgschuetzen-kallmuenz.com
X-WR-CALDESC:Veranstaltungen für Burgschützen Kallmünz 1861 e.V.
REFRESH-INTERVAL;VALUE=DURATION:PT1H
X-Robots-Tag:noindex
X-PUBLISHED-TTL:PT1H
BEGIN:VTIMEZONE
TZID:UTC
BEGIN:STANDARD
TZOFFSETFROM:+0000
TZOFFSETTO:+0000
TZNAME:UTC
DTSTART:20230101T000000
END:STANDARD
END:VTIMEZONE
BEGIN:VEVENT
DTSTART;TZID=UTC:20241116T180000
DTEND;TZID=UTC:20241116T180000
DTSTAMP:20260420T134033
CREATED:20241113T113630Z
LAST-MODIFIED:20241113T113737Z
UID:2730-1731780000-1731780000@burgschuetzen-kallmuenz.com
SUMMARY:[2024.11.16] - Volkstrauertag - Treffen
DESCRIPTION:Volkstrauertag\nTreffen um 18:00 an der Kirche in Kallmünz
URL:https://burgschuetzen-kallmuenz.com/event/2024-11-16-volkstrauertag-treffen/
CATEGORIES:Böllerschützen,Burgschützen
ORGANIZER;CN="Burgsch%C3%BCtzen Kallm%C3%BCnz 1861 e.V.":MAILTO:mail(äd)burgschuetzen-kallmuenz.com
END:VEVENT
END:VCALENDAR