BEGIN:VCALENDAR
VERSION:2.0
PRODID:-//Burgschützen Kallmünz 1861 e.V. - ECPv6.15.20//NONSGML v1.0//EN
CALSCALE:GREGORIAN
METHOD:PUBLISH
X-WR-CALNAME:Burgschützen Kallmünz 1861 e.V.
X-ORIGINAL-URL:https://burgschuetzen-kallmuenz.com
X-WR-CALDESC:Veranstaltungen für Burgschützen Kallmünz 1861 e.V.
REFRESH-INTERVAL;VALUE=DURATION:PT1H
X-Robots-Tag:noindex
X-PUBLISHED-TTL:PT1H
BEGIN:VTIMEZONE
TZID:UTC
BEGIN:STANDARD
TZOFFSETFROM:+0000
TZOFFSETTO:+0000
TZNAME:UTC
DTSTART:20230101T000000
END:STANDARD
END:VTIMEZONE
BEGIN:VEVENT
DTSTART;VALUE=DATE:20241102
DTEND;VALUE=DATE:20241103
DTSTAMP:20260420T134109
CREATED:20240907T062515Z
LAST-MODIFIED:20240907T065017Z
UID:2105-1730505600-1730591999@burgschuetzen-kallmuenz.com
SUMMARY:[2024.11.02] - OSB-Delegiertentag in Maxhütte
DESCRIPTION:Maxhütte-Haidhof\, 93142 Maxhütte-Haidhof\, Deutschland
URL:https://burgschuetzen-kallmuenz.com/event/2024-11-02-osb-delegiertentag-in-maxhuette/
CATEGORIES:Oberpfälzer Schützenbund
ATTACH;FMTTYPE=image/png:https://burgschuetzen-kallmuenz.com/wp-content/uploads/2024/09/logo-OSB.png
ORGANIZER;CN="Oberpf%C3%A4lzer Sch%C3%BCtzenbund e.V.":MAILTO:info@osb-ev.de
END:VEVENT
END:VCALENDAR