BEGIN:VCALENDAR
VERSION:2.0
PRODID:-//Burgschützen Kallmünz 1861 e.V. - ECPv6.15.20//NONSGML v1.0//EN
CALSCALE:GREGORIAN
METHOD:PUBLISH
X-ORIGINAL-URL:https://burgschuetzen-kallmuenz.com
X-WR-CALDESC:Veranstaltungen für Burgschützen Kallmünz 1861 e.V.
REFRESH-INTERVAL;VALUE=DURATION:PT1H
X-Robots-Tag:noindex
X-PUBLISHED-TTL:PT1H
BEGIN:VTIMEZONE
TZID:UTC
BEGIN:STANDARD
TZOFFSETFROM:+0000
TZOFFSETTO:+0000
TZNAME:UTC
DTSTART:20230101T000000
END:STANDARD
END:VTIMEZONE
BEGIN:VEVENT
DTSTART;TZID=UTC:20241024T190000
DTEND;TZID=UTC:20241024T220000
DTSTAMP:20260420T145831
CREATED:20241014T072549Z
LAST-MODIFIED:20241014T072651Z
UID:2477-1729796400-1729807200@burgschuetzen-kallmuenz.com
SUMMARY:[24.10.2024] - 2. Tag Rundenwettkampf
DESCRIPTION:2. Tag Rundenwettkampf \nab 19:00 im Schützenheim der Burgschützen Kallmünz\nGegner: Almenrausch Katzdorf \nÜbersicht Rundenwettkampf 2024/2025 \nBLOG-Beitrag \n  \n  \n14.10.2024 – webmaster gitta
URL:https://burgschuetzen-kallmuenz.com/event/24-10-2024-2-tag-rundenwettkampf/
CATEGORIES:Burgschützen,Rundenwettkampf,Schützengau Burglengenfeld
ATTACH;FMTTYPE=image/jpeg:https://burgschuetzen-kallmuenz.com/download/1965/?tmstv=1776697111&v=1966
ORGANIZER;CN="Burgsch%C3%BCtzen Kallm%C3%BCnz 1861 e.V.":MAILTO:mail(äd)burgschuetzen-kallmuenz.com
END:VEVENT
END:VCALENDAR