BEGIN:VCALENDAR
VERSION:2.0
PRODID:-//Burgschützen Kallmünz 1861 e.V. - ECPv6.15.20//NONSGML v1.0//EN
CALSCALE:GREGORIAN
METHOD:PUBLISH
X-ORIGINAL-URL:https://burgschuetzen-kallmuenz.com
X-WR-CALDESC:Veranstaltungen für Burgschützen Kallmünz 1861 e.V.
REFRESH-INTERVAL;VALUE=DURATION:PT1H
X-Robots-Tag:noindex
X-PUBLISHED-TTL:PT1H
BEGIN:VTIMEZONE
TZID:UTC
BEGIN:STANDARD
TZOFFSETFROM:+0000
TZOFFSETTO:+0000
TZNAME:UTC
DTSTART:20230101T000000
END:STANDARD
END:VTIMEZONE
BEGIN:VEVENT
DTSTART;VALUE=DATE:20240921
DTEND;VALUE=DATE:20240922
DTSTAMP:20260422T044145
CREATED:20240907T062036Z
LAST-MODIFIED:20240907T062127Z
UID:2100-1726876800-1726963199@burgschuetzen-kallmuenz.com
SUMMARY:[2024.09.21] - Gaukönigproklamation in Burglengenfeld
DESCRIPTION:Gauproklamation in Burglengenfeld
URL:https://burgschuetzen-kallmuenz.com/event/2024-09-21-gaukoenigproklamation-in-burglengenfeld/
CATEGORIES:Gaumeisterschaften
ATTACH;FMTTYPE=image/jpeg:https://burgschuetzen-kallmuenz.com/wp-content/uploads/2024/09/Logo-Schuetzengau-BUL-e1726906821567.jpg
END:VEVENT
END:VCALENDAR