BEGIN:VCALENDAR
VERSION:2.0
PRODID:-//Burgschützen Kallmünz 1861 e.V. - ECPv6.15.20//NONSGML v1.0//EN
CALSCALE:GREGORIAN
METHOD:PUBLISH
X-ORIGINAL-URL:https://burgschuetzen-kallmuenz.com
X-WR-CALDESC:Veranstaltungen für Burgschützen Kallmünz 1861 e.V.
REFRESH-INTERVAL;VALUE=DURATION:PT1H
X-Robots-Tag:noindex
X-PUBLISHED-TTL:PT1H
BEGIN:VTIMEZONE
TZID:UTC
BEGIN:STANDARD
TZOFFSETFROM:+0000
TZOFFSETTO:+0000
TZNAME:UTC
DTSTART:20230101T000000
END:STANDARD
END:VTIMEZONE
BEGIN:VEVENT
DTSTART;VALUE=DATE:20240907
DTEND;VALUE=DATE:20240908
DTSTAMP:20260422T044131
CREATED:20240330T111312Z
LAST-MODIFIED:20240704T120000Z
UID:1017-1725667200-1725753599@burgschuetzen-kallmuenz.com
SUMMARY:[2024.09.07] - Marktmeisterschaft
DESCRIPTION:Die Burgschützen Kallmünz laden auch in diesem Jahr wieder zur Marktmeisterschaft Kallmünz ein. Sie findet statt am Samstag\, den 07. September 2024 ab 10:00 Uhr im Schützenheim\, An der Tegelgrube 2\, 93183 Kallmünz. Bei dieser Marktmeisterschaft handelt es sich um einen Mannschaftswettbewerb. \nEine Mannschaft besteht aus 3 bis 5 Personen\, die mindestens 12 Jahre alt sein müssen. Je Verein etc. können auch mehrere Mannschaften starten. Je Mannschaft werden die besten 3 Einzelergebnisse zum Mannschaftsergebnis zusammengefasst. Aus Gründen der Chancengleichheit werden die Luftgewehre und Auflagen vom Veranstalter gestellt und sind zu verwenden. Es sind keine Hilfsmittel erlaubt. Prämiert werden die 3 besten Mannschaften und die besten Einzelschützen/Einzelschützinnen. \nAnmeldung bitte per e-mail an burgschuetzen.kallmuenz@acor.de oder an mail@burgschuetzen-kallmuenz.com. \nAllen Teilnehmenden wünschen wir „Gut Schuß“ \nAuch für das leibliche Wohl wird gesorgt. \nDie Vorstandschaft \nDie Details zum Ablauf und den Reglen zur 3. Marktmeisterschaft im Luftgewehr Auflage findet ihr HIER. \nGerne könnt ihr die Trainingsmöglichkeiten an unseren Schissabenden nutzen: Trainingszeiten.
URL:https://burgschuetzen-kallmuenz.com/event/marktmeisterschaft/
CATEGORIES:Marktmeisterschaft
ATTACH;FMTTYPE=image/jpeg:https://burgschuetzen-kallmuenz.com/wp-content/uploads/2024/03/20240329_gs_08-scaled.jpg
ORGANIZER;CN="Burgsch%C3%BCtzen Kallm%C3%BCnz 1861 e.V.":MAILTO:mail(äd)burgschuetzen-kallmuenz.com
END:VEVENT
END:VCALENDAR