BEGIN:VCALENDAR
VERSION:2.0
PRODID:-//Burgschützen Kallmünz 1861 e.V. - ECPv6.15.20//NONSGML v1.0//EN
CALSCALE:GREGORIAN
METHOD:PUBLISH
X-WR-CALNAME:Burgschützen Kallmünz 1861 e.V.
X-ORIGINAL-URL:https://burgschuetzen-kallmuenz.com
X-WR-CALDESC:Veranstaltungen für Burgschützen Kallmünz 1861 e.V.
REFRESH-INTERVAL;VALUE=DURATION:PT1H
X-Robots-Tag:noindex
X-PUBLISHED-TTL:PT1H
BEGIN:VTIMEZONE
TZID:UTC
BEGIN:STANDARD
TZOFFSETFROM:+0000
TZOFFSETTO:+0000
TZNAME:UTC
DTSTART:20230101T000000
END:STANDARD
END:VTIMEZONE
BEGIN:VEVENT
DTSTART;VALUE=DATE:20240802
DTEND;VALUE=DATE:20240805
DTSTAMP:20260422T061100
CREATED:20240330T105642Z
LAST-MODIFIED:20240417T121554Z
UID:994-1722556800-1722815999@burgschuetzen-kallmuenz.com
SUMMARY:[2024.08.04 13:00] - FFW Holzheim
DESCRIPTION:Teilnahme am Gründungsfest der FFW Holzheim a.F. am Sonntag zum Festzug\nTreffpunkt am Sonntag um 13:00 Uhr in Holzheim\n\n 
URL:https://burgschuetzen-kallmuenz.com/event/ffw-holzheim/
CATEGORIES:Feiern und Feste und Jubiläum
ATTACH;FMTTYPE=image/png:https://burgschuetzen-kallmuenz.com/wp-content/uploads/2024/03/LOGO-Burgschuetzen-Kallmuenz-WEB_150-2.png
END:VEVENT
END:VCALENDAR