BEGIN:VCALENDAR
VERSION:2.0
PRODID:-//Burgschützen Kallmünz 1861 e.V. - ECPv6.15.20//NONSGML v1.0//EN
CALSCALE:GREGORIAN
METHOD:PUBLISH
X-WR-CALNAME:Burgschützen Kallmünz 1861 e.V.
X-ORIGINAL-URL:https://burgschuetzen-kallmuenz.com
X-WR-CALDESC:Veranstaltungen für Burgschützen Kallmünz 1861 e.V.
REFRESH-INTERVAL;VALUE=DURATION:PT1H
X-Robots-Tag:noindex
X-PUBLISHED-TTL:PT1H
BEGIN:VTIMEZONE
TZID:UTC
BEGIN:STANDARD
TZOFFSETFROM:+0000
TZOFFSETTO:+0000
TZNAME:UTC
DTSTART:20230101T000000
END:STANDARD
END:VTIMEZONE
BEGIN:VEVENT
DTSTART;TZID=UTC:20240615T053000
DTEND;TZID=UTC:20240629T173000
DTSTAMP:20260422T085615
CREATED:20240516T084514Z
LAST-MODIFIED:20240609T112317Z
UID:1496-1718429400-1719682200@burgschuetzen-kallmuenz.com
SUMMARY:[2024.06.15] - [2024.06.29] - Bay. Landesmeisterschaften
DESCRIPTION:Einige unserer Schützen und Schützinnen haben sich für die Teilnahme bei den bayerischen Landesmeisterschaften qualifiziert. Diese finden im Leistungszentrum Pfreimd im Juni 2024 statt. Unsere Teilnehmer und Teilnehmerinnen heissen:\nLuftgewehr Auflage: Dirk Tamme; Gitta Schürck; Jakob Bruckschlegel\n50 m Pistole: Dirk Tamme\n50 m freie Pistole Auflage: Dirk Tamme\nZimmerstutzen: Daniel Kohler; Dirk Tamme;\nZimmerstutzen Auflage: Jakob Bruckschlegel; Franz Bauer; Helmut Wolf; Dirk Tamme \nSiehe auch dazu unseren Blog-Betrag \n 
URL:https://burgschuetzen-kallmuenz.com/event/20240615-bay-landesmeisterschaften/
LOCATION:Oberpfälzer Schützenbund e.V.\, Schützenstraße 99\, Pfreimd\, Bayern\, 92536\, Deutschland
CATEGORIES:Bay. Landesmeisterschaften
ORGANIZER;CN="Oberpf%C3%A4lzer Sch%C3%BCtzenbund e.V.":MAILTO:info@osb-ev.de
END:VEVENT
END:VCALENDAR