BEGIN:VCALENDAR
VERSION:2.0
PRODID:-//Burgschützen Kallmünz 1861 e.V. - ECPv6.15.20//NONSGML v1.0//EN
CALSCALE:GREGORIAN
METHOD:PUBLISH
X-ORIGINAL-URL:https://burgschuetzen-kallmuenz.com
X-WR-CALDESC:Veranstaltungen für Burgschützen Kallmünz 1861 e.V.
REFRESH-INTERVAL;VALUE=DURATION:PT1H
X-Robots-Tag:noindex
X-PUBLISHED-TTL:PT1H
BEGIN:VTIMEZONE
TZID:UTC
BEGIN:STANDARD
TZOFFSETFROM:+0000
TZOFFSETTO:+0000
TZNAME:UTC
DTSTART:20230101T000000
END:STANDARD
END:VTIMEZONE
BEGIN:VEVENT
DTSTART;VALUE=DATE:20240607
DTEND;VALUE=DATE:20240609
DTSTAMP:20260422T091438
CREATED:20240330T104806Z
LAST-MODIFIED:20240607T070107Z
UID:988-1717718400-1717891199@burgschuetzen-kallmuenz.com
SUMMARY:[2024.06.08 TP 15:00] - FFW Traidendorf
DESCRIPTION:Teilnahme am Gründungesfest der FFW Traidendorf am Samstag\nTreffpunkt am Samstag um 15:00 Uhr in Traidendorf\n\n\nLogo Burschützen
URL:https://burgschuetzen-kallmuenz.com/event/ffw-traidendorf-2/
CATEGORIES:Feiern und Feste und Jubiläum
END:VEVENT
END:VCALENDAR