BEGIN:VCALENDAR
VERSION:2.0
PRODID:-//Burgschützen Kallmünz 1861 e.V. - ECPv6.15.20//NONSGML v1.0//EN
CALSCALE:GREGORIAN
METHOD:PUBLISH
X-ORIGINAL-URL:https://burgschuetzen-kallmuenz.com
X-WR-CALDESC:Veranstaltungen für Burgschützen Kallmünz 1861 e.V.
REFRESH-INTERVAL;VALUE=DURATION:PT1H
X-Robots-Tag:noindex
X-PUBLISHED-TTL:PT1H
BEGIN:VTIMEZONE
TZID:UTC
BEGIN:STANDARD
TZOFFSETFROM:+0000
TZOFFSETTO:+0000
TZNAME:UTC
DTSTART:20230101T000000
END:STANDARD
END:VTIMEZONE
BEGIN:VEVENT
DTSTART;VALUE=DATE:20240601
DTEND;VALUE=DATE:20240603
DTSTAMP:20260422T102428
CREATED:20240330T103622Z
LAST-MODIFIED:20240417T121754Z
UID:981-1717200000-1717372799@burgschuetzen-kallmuenz.com
SUMMARY:[2024.06.01 17:00] - FFW Krachenhausen
DESCRIPTION:Teilnahme am Gründungsfest der FFW Krachenhausen-Mühlschlag am Samstag\nTreffpunkt um 17:00 Uhr am Samstag in Krachenhausen
URL:https://burgschuetzen-kallmuenz.com/event/ffw-krachenhausen/
CATEGORIES:Feiern und Feste und Jubiläum
ATTACH;FMTTYPE=image/png:https://burgschuetzen-kallmuenz.com/wp-content/uploads/2024/03/LOGO-Burgschuetzen-Kallmuenz-WEB_150-2.png
END:VEVENT
END:VCALENDAR