BEGIN:VCALENDAR
VERSION:2.0
PRODID:-//Burgschützen Kallmünz 1861 e.V. - ECPv6.15.20//NONSGML v1.0//EN
CALSCALE:GREGORIAN
METHOD:PUBLISH
X-WR-CALNAME:Burgschützen Kallmünz 1861 e.V.
X-ORIGINAL-URL:https://burgschuetzen-kallmuenz.com
X-WR-CALDESC:Veranstaltungen für Burgschützen Kallmünz 1861 e.V.
REFRESH-INTERVAL;VALUE=DURATION:PT1H
X-Robots-Tag:noindex
X-PUBLISHED-TTL:PT1H
BEGIN:VTIMEZONE
TZID:UTC
BEGIN:STANDARD
TZOFFSETFROM:+0000
TZOFFSETTO:+0000
TZNAME:UTC
DTSTART:20230101T000000
END:STANDARD
END:VTIMEZONE
BEGIN:VEVENT
DTSTART;VALUE=DATE:20240503
DTEND;VALUE=DATE:20240504
DTSTAMP:20260422T103811
CREATED:20240328T081542Z
LAST-MODIFIED:20240417T121940Z
UID:923-1714694400-1714780799@burgschuetzen-kallmuenz.com
SUMMARY:[2024.05.03] - Königsproklamation
DESCRIPTION:Über das Jahr hinweg haben unsere Schützen und Schützinnen jeweils 10 einzelne Schüsse auf eine in der Schussauswertung unsichtbare Scheibe abgegeben. Das heisst: sie konnten nicht sehen\, wie gut sie getroffen haben. Von all diesen Schüssen wird nun der beste Schuss ermittelt. Der Gewinner bzw. die Gewinnerin wird dann zum König bzw. zur Königin proklamiert. Wir sind riesig gespannt.\nDie genaue Uhrzeit wird noch mitgeteilt.
URL:https://burgschuetzen-kallmuenz.com/event/koenigsproklamation/
LOCATION:Schützenverein Waldestlust Roding e.V.\, Raffastraße 50\, Maxhütte-Haidhof\,\, Deutschland\, 93142
CATEGORIES:Königsproklamation
ATTACH;FMTTYPE=image/jpeg:https://burgschuetzen-kallmuenz.com/wp-content/uploads/2024/03/Schiessbild-scaled-e1717746438414.jpg
ORGANIZER;CN="Burgsch%C3%BCtzen Kallm%C3%BCnz 1861 e.V.":MAILTO:mail(äd)burgschuetzen-kallmuenz.com
END:VEVENT
END:VCALENDAR